Workbook

Sheet Tabela de Preços
A1: PRODUTO | B1: Unid. | C1: Valor
A2: Embalagem | B2: Unid
A3: Etiquetas Composição e Tag
A4: Tranporte/Frete Sutiã | E4: PARA USAR A TABELA VOCÊ PRECISA IR EM:
A5: Transporte/Frete Calcinha | E5: 1º ARQUIVO
A6: Linha | E6: 2º FAZER UMA CÓPIA
A7: Alça 10 | B7: Metro | E7: APÓS USAR A CÓPIA PARA FAZER AS EDIÇÕES
A8: Alça 13 | B8: Metro
A9: Alça 18 | B9: Metro
A10: Bojo (P ao GG) | B10: Par
A11: Bojo Plus | B11: Par
A12: Elástico Primavera | B12: Metro
A13: Fecho pequeno | B13: Unid
A14: Fecho plus | B14: Unid
A15: Laço pequeno (calcinha) | B15: Unid
A16: Laço médio (sutiã) | B16: Unid
A17: Regulador 10 | B17: Jogo
A18: Regulador 13 | B18: Jogo
A19: Regulador 18 | B19: Jogo
... A28: Strass | B28: Unid
A29: Fundo malha algodão (tamanhos pequenos)
A30: Fundo malha algodão (PLUS SIZE)
A31: Forro malha algodão Sutiã
A32: Forro malha cueca
A33: Barbatana | B33: Unid
A34: Elástico Cintura Cueca Masculina | B34: Metro
A35: Elástico Cintura Cueca Feminina | B35: Metro
A36: Elástico 3cm (Jaraguá) | B36: Metro
A37: Elástico 2cm (Jaraguá) | B37: Metro
A38: Elástico 8mm (Jaraguá) | B38: Metro
A39: Luz
A40: Outros

Sheet Cálculo de Custos
A1: CALCINHA | E1: CALCINHA PLUS SIZE | I1: CUECA BOX
A2: Produto | B2: Quant. | C2: Valor | E2: Produto | F2: Quant. | G2: Valor | I2: Produto | J2: Quant. | K2: Valor
A3: Microfibra | C3: =B3*'Tabela de Preços'!C24 -> 0 | E3: Microfibra | G3: =F3*'Tabela de Preços'!C24 -> 0 | I3: Microfibra | K3: =J3*'Tabela de Preços'!C24 -> 0
A4: Coton | C4: =B4*'Tabela de Preços'!C25 -> 0 | E4: Coton | G4: =F4*'Tabela de Preços'!C25 -> 0 | I4: Coton | K4: =J4*'Tabela de Preços'!C25 -> 0
A5: Renda | C5: =B5*'Tabela de Preços'!C27 -> 0 | E5: Renda | G5: =F5*'Tabela de Preços'!C27 -> 0 | I5: Malha p/ forro (cueca) | K5: =J5*'Tabela de Preços'!C32 -> 0
A6: Viés Mexicano | C6: =B6*'Tabela de Preços'!C23 -> 0 | E6: Viés Mexicano | G6: =F6*'Tabela de Preços'!C23 -> 0 | I6: Elástico Cintura | K6: =J6*'Tabela de Preços'!C34 -> 0
A7: Malha p/ forro | C7: =B7*'Tabela de Preços'!C29 -> 0 | E7: Malha p/ forro | G7: =F7*'Tabela de Preços'!C30 -> 0 | I7: Linha | K7: =J7*'Tabela de Preços'!C6 -> 0
A8: Lacinho | C8: =B8*'Tabela de Preços'!C15 -> 0 | E8: Lacinho | G8: =F8*'Tabela de Preços'!C15 -> 0 | I8: Transporte | K8: =J8*'Tabela de Preços'!C5 -> 0
A9: Linha | C9: =B9*'Tabela de Preços'!C6 -> 0 | E9: Linha | G9: =F9*'Tabela de Preços'!C6 -> 0 | I9: Etiquetas | K9: =J9*'Tabela de Preços'!C3 -> 0
A10: Transporte | C10: =B10*'Tabela de Preços'!C5 -> 0 | E10: Transporte | G10: =F10*'Tabela de Preços'!C5 -> 0 | I10: Embalagem | K10: =J10*'Tabela de Preços'!C2 -> 0
A11: Etiquetas | C11: =B11*'Tabela de Preços'!C3 -> 0 | E11: Etiquetas | G11: =F11*'Tabela de Preços'!C3 -> 0 | I11: Luz | K11: =J11*'Tabela de Preços'!C39 -> 0
A12: Embalagem | C12: =B12*'Tabela de Preços'!C2 -> 0 | E12: Embalagem | G12: =F12*'Tabela de Preços'!C2 -> 0 | I12: Outros | K12: =J12*'Tabela de Preços'!C40 -> 0
A13: Luz | C13: =B13*'Tabela de Preços'!C39 -> 0 | E13: Luz | G13: =F13*'Tabela de Preços'!C39 -> 0
A14: Outros | C14: =B14*'Tabela de Preços'!C40 -> 0 | E14: Outros | G14: =F14*'Tabela de Preços'!C40 -> 0
A18: CUSTO TOTAL | C18: =SUM(C3:C17) -> 0 | E18: CUSTO TOTAL | G18: =SUM(G3:G17) -> 0 | I18: CUSTO TOTAL | K18: =SUM(K3:K17) -> 0
A21: SUTIÃ | E21: SUTIÃ PLUS SIZE
A22: Aviamentos | B22: Qt. | C22: Valor | E22: Aviamentos | F22: Qt. | G22: Valor
A23: Alça 10 | C23: =B23*'Tabela de Preços'!C7 -> 0 | E23: Alça 18 | G23: =F23*'Tabela de Preços'!C9 -> 0
A24: Bojo | C24: =B24*'Tabela de Preços'!C10 -> 0 | E24: Bojo | G24: =F24*'Tabela de Preços'!C11 -> 0
A25: Linha | C25: =B25*'Tabela de Preços'!C6 -> 0 | E25: Linha | G25: =F25*'Tabela de Preços'!C6 -> 0
A26: Regulador 10 | C26: =B26*'Tabela de Preços'!C7 -> 0 | E26: Regulador 18 | G26: =F26*'Tabela de Preços'!C19 -> 0
A27: Suporte (Aro) | C27: =B27*'Tabela de Preços'!C20 -> 0 | E27: Suporte (Aro) | G27: =F27*'Tabela de Preços'!C21 -> 0
A28: Microfibra | C28: =B28*'Tabela de Preços'!C24 -> 0 | E28: Microfibra | G28: =F28*'Tabela de Preços'!C24 -> 0
A29: Viés elástico (mexicano) | C29: =B29*'Tabela de Preços'!C23 -> 0 | E29: Viés elástico (mexicano) | G29: =F29*'Tabela de Preços'!C23 -> 0
A30: Viés para suporte (taquara) | C30: =B30*'Tabela de Preços'!C22 -> 0 | E30: Viés para suporte (taquara) | G30: =F30*'Tabela de Preços'!C22 -> 0
A31: Fecho | C31: =B31*'Tabela de Preços'!C13 -> 0 | E31: Fecho Plus | G31: =F31*'Tabela de Preços'!C14 -> 0
A32: Laço médio | C32: =B32*'Tabela de Preços'!C16 -> 0 | E32: Laço médio | G32: =F32*'Tabela de Preços'!C16 -> 0
A33: Renda | C33: =B33*'Tabela de Preços'!C27 -> 0 | E33: Renda | G33: =F33*'Tabela de Preços'!C27 -> 0
A34: Elástico primavera | C34: =B34*'Tabela de Preços'!C12 -> 0 | E34: Elástico Jaraguá 2 | G34: =F34*'Tabela de Preços'!C37 -> 0
A35: Malha para forro | C35: =B35*'Tabela de Preços'!C29 -> 0 | E35: Elástico Jaraguá 3 | G35: =F35*'Tabela de Preços'!C36 -> 0
A36: Barbatana | C36: =B36*'Tabela de Preços'!C33 -> 0 | E36: Malha forro | G36: =F36*'Tabela de Preços'!C31 -> 0
A37: Strass | C37: =B37*'Tabela de Preços'!C28 -> 0 | E37: Barbatana | G37: =F37*'Tabela de Preços'!C33 -> 0
A38: Embalagem | C38: =B38*'Tabela de Preços'!C2 -> 0 | E38: Strass | G38: =F38*'Tabela de Preços'!C28 -> 0
A39: Etiquetas | C39: =B39*'Tabela de Preços'!C3 -> 0 | E39: Embalagem | G39: =F39*'Tabela de Preços'!C2 -> 0
A40: Transporte | C40: =B40*'Tabela de Preços'!C4 -> 0 | E40: Etiquetas | G40: =F40*'Tabela de Preços'!C3 -> 0
A41: Luz | C41: =B41*'Tabela de Preços'!C39 -> 0 | E41: Transporte | G41: =F41*'Tabela de Preços'!C4 -> 0
A42: Outros | C42: =B42*'Tabela de Preços'!C40 -> 0 | E42: Luz | G42: =F42*'Tabela de Preços'!C39 -> 0
E43: Outros | G43: =F43*'Tabela de Preços'!C40 -> 0
A45: CUSTO TOTAL | C45: =SUM(C23:C44) -> 0 | E45: CUSTO TOTAL | G45: =SUM(G23:G44) -> 0
